BEGIN:VCALENDAR
VERSION:2.0
PRODID:-//Library Market//iCal Export//EN
BEGIN:VEVENT
SUMMARY:True Crime Book Club
UID:8528
DTSTAMP:20260423T155200Z
DTSTART:20260818T223000Z
DTEND:20260818T233000Z
LOCATION:185 North Main Street, North Canton, OH 44720, United States
ROOM: Meeting Room A
DESCRIPTION:Join us here at the library to discuss The art thief : a true 
 story of love, crime, and a dangerous obsession by Michael FinkelLimited c
 opies available at the library. Limited copies of the ebook and e-audio av
 ailable on Libby and Hoopla.
URL:https://events.northcantonlibrary.org/event/true-crime-book-club-8528
END:VEVENT
END:VCALENDAR
