BEGIN:VCALENDAR
VERSION:2.0
PRODID:-//Library Market//iCal Export//EN
BEGIN:VEVENT
SUMMARY:Readable History Book Club
UID:8521
DTSTAMP:20260423T155300Z
DTSTART:20260811T223000Z
DTEND:20260811T233000Z
LOCATION:185 North Main Street, North Canton, OH 44720, United States
ROOM: Meeting Room B
DESCRIPTION:Join us here at the library to discuss Among Heroes: United Fl
 ight 93 and the Passengers and Crew Who Fought Back by Jere Longman AND Re
 d Bandana: The True Story of a Hero&#039;s Life and the Lives He Saved by 
 Tim RinaldiLimited copies available at the library. Limited copies of the 
 ebook and e-audio available on Libby and Hoopla.
URL:https://events.northcantonlibrary.org/event/readable-history-book-club
 -8521
END:VEVENT
END:VCALENDAR
