BEGIN:VCALENDAR
VERSION:2.0
PRODID:-//Library Market//iCal Export//EN
BEGIN:VEVENT
SUMMARY:Readable History Book Club
UID:8520
DTSTAMP:20260423T143100Z
DTSTART:20260714T223000Z
DTEND:20260714T233000Z
LOCATION:185 North Main Street, North Canton, OH 44720, United States
ROOM: Meeting Room B
DESCRIPTION:Join us here at the library to discuss We the Women: the Hidde
 n Heroes Who Shaped America by Norah O&#039;DonnellLimited copies availabl
 e at the library. Limited copies of the ebook and e-audio available on Lib
 by and Hoopla.
URL:https://events.northcantonlibrary.org/event/readable-history-book-club
 -8520
END:VEVENT
END:VCALENDAR
