BEGIN:VCALENDAR
VERSION:2.0
PRODID:-//Library Market//iCal Export//EN
BEGIN:VEVENT
SUMMARY:Readable History Book Club
UID:8519
DTSTAMP:20260423T122900Z
DTSTART:20260609T223000Z
DTEND:20260609T233000Z
LOCATION:185 North Main Street, North Canton, OH 44720, United States
ROOM: Meeting Room A
DESCRIPTION:Join us here at the library to discuss Forgotten Souls: The Se
 arch for the Lost Tuskegee Airmen by Cheryl W. ThompsonLimited copies avai
 lable at the library. Limited copies of the ebook and e-audio available on
  Libby and Hoopla.
URL:https://events.northcantonlibrary.org/event/readable-history-book-club
 -8519
END:VEVENT
END:VCALENDAR
