BEGIN:VCALENDAR
VERSION:2.0
PRODID:-//Library Market//iCal Export//EN
BEGIN:VEVENT
SUMMARY:3D Printing: Create Your Own!
UID:10392
DTSTAMP:20260423T145800Z
DTSTART:20260729T223000Z
DTEND:20260729T233000Z
LOCATION:185 North Main Street, North Canton, OH 44720, United States
ROOM: Meeting Room A+B
DESCRIPTION:Step into the world of 3D printing and watch your ideas come t
 o life, literally! In this introductory program, we&#039;ll explore how 3D
  printers turn digital designs into real objects and share some of the ama
 zing things you can create. This program is made possible in part by the 
 Institute of Museum and Library Services and the State Library of Ohio. 
URL:https://events.northcantonlibrary.org/event/3d-printing-create-your-ow
 n-10392
END:VEVENT
END:VCALENDAR
