BEGIN:VCALENDAR
VERSION:2.0
PRODID:-//Library Market//iCal Export//EN
BEGIN:VEVENT
SUMMARY:Cricut Basics for Beginners
UID:10391
DTSTAMP:20260423T143100Z
DTSTART:20260701T223000Z
DTEND:20260701T233000Z
LOCATION:185 North Main Street, North Canton, OH 44720, United States
ROOM: Meeting Room A+B
DESCRIPTION:Ready to get crafty with a little help from technology? Join u
 s for a fun, beginner-friendly introduction to our Cricut machine! We&#039
 ;ll walk through the basics, show off what this creative tool can do, and 
 help you start imagining your own projects -- from custom cards to persona
 lized decals. No experience needed; just bring your curiosity! This progr
 am is made possible in part by the Institute of Museum and Library Service
 s and the State Library of Ohio. 
URL:https://events.northcantonlibrary.org/event/cricut-basics-beginners-10
 391
END:VEVENT
END:VCALENDAR
