BEGIN:VCALENDAR
VERSION:2.0
PRODID:-//Library Market//iCal Export//EN
BEGIN:VEVENT
SUMMARY:No Senior Programming
UID:10380
DTSTAMP:20260425T135600Z
DTSTART:20261224T050000Z
DTEND:20261231T050000Z
LOCATION:North Canton Civic (Senior) Center, 845 W Maple Street, North Can
 ton, OH 44720, United States
ROOM: No Senior Programming
DESCRIPTION:
URL:https://events.northcantonlibrary.org/event/no-senior-programming-1038
 0
END:VEVENT
END:VCALENDAR
