BEGIN:VCALENDAR
VERSION:2.0
PRODID:-//Library Market//iCal Export//EN
BEGIN:VEVENT
SUMMARY:No Senior Programming - Closed for Thanksgiving
UID:10375
DTSTAMP:20260423T212100Z
DTSTART:20261126T050000Z
DTEND:20261126T050000Z
LOCATION:North Canton Civic (Senior) Center, 845 W Maple Street, North Can
 ton, OH 44720, United States
ROOM: No Senior Programming - Closed for Thanksgiving
DESCRIPTION:
URL:https://events.northcantonlibrary.org/event/no-senior-programming-clos
 ed-thanksgiving-10375
END:VEVENT
END:VCALENDAR
