BEGIN:VCALENDAR
VERSION:2.0
PRODID:-//Library Market//iCal Export//EN
BEGIN:VEVENT
SUMMARY:No Senior Programming - Civic Center closed for Voting
UID:10374
DTSTAMP:20260423T212100Z
DTSTART:20261103T050000Z
DTEND:20261103T050000Z
LOCATION:North Canton Civic (Senior) Center, 845 W Maple Street, North Can
 ton, OH 44720, United States
ROOM: No Senior Programming - Civic Center closed for Voting
DESCRIPTION:
URL:https://events.northcantonlibrary.org/event/no-senior-programming-civi
 c-center-closed-voting-10374
END:VEVENT
END:VCALENDAR
